BEGIN:VCALENDAR
VERSION:2.0
PRODID:-//Squam Lakes Association - ECPv6.10.2//NONSGML v1.0//EN
CALSCALE:GREGORIAN
METHOD:PUBLISH
X-WR-CALNAME:Squam Lakes Association
X-ORIGINAL-URL:https://squamlakes.org
X-WR-CALDESC:Events for Squam Lakes Association
REFRESH-INTERVAL;VALUE=DURATION:PT1H
X-Robots-Tag:noindex
X-PUBLISHED-TTL:PT1H
BEGIN:VTIMEZONE
TZID:America/New_York
BEGIN:DAYLIGHT
TZOFFSETFROM:-0500
TZOFFSETTO:-0400
TZNAME:EDT
DTSTART:20260308T070000
END:DAYLIGHT
BEGIN:STANDARD
TZOFFSETFROM:-0400
TZOFFSETTO:-0500
TZNAME:EST
DTSTART:20261101T060000
END:STANDARD
END:VTIMEZONE
BEGIN:VEVENT
DTSTART;TZID=America/New_York:20260417T183000
DTEND;TZID=America/New_York:20260417T210000
DTSTAMP:20260420T023555
CREATED:20260207T161933Z
LAST-MODIFIED:20260411T193745Z
UID:23240-1776450600-1776459600@squamlakes.org
SUMMARY:Timberdoodling: Looking for Spring's Funkiest Bird
DESCRIPTION:This week's program\n\nWant a fun and relaxing evening to celebrate Earth Day? Join us April 22nd from 8:30 - 10:00 PM at the SLA for a bonfire with stargazing and s’mores! This casual event will focus around our appreciation for Earth and the natural world around us by observing the cosmos. Late April is the best viewing time for the Lyrids meteor shower\, a spring stargazing spectacle with upwards of 15-20 comets an hour! To finish off the evening\, we will be making s’mores to be served with hot chocolate. We hope you can join us for a short\, but fun evening event on a special holiday at the SLA. Registration is required for this free event. Children must be accompanied by an adult.\n\n    \n                                    \n    \n    \n    \n    \n            \n                    \n            \n            \n\n    \n    \n    \n    \n    \n    \n\n    \n        Register Here!\n\n        \n        \n                \n\n    \n\n\n\n\n  \n  \n	\n\n\n\n\n\n	\n		\n	\n\n\n\n\n  \n  \n	\n\n\n\n\n  \n  \n	\n\n\n\n\n\n\n\n\n\n  \n  \n	\n\n\n\n\nLocation\n\nSquam Lakes Association\n\nMeet us in the Great Room\, just through the front doors. \n\nSquam Lakes Association\n\n\n  \n              \n    \n                      \n            \n            \n\n    \n    \n    \n    \n    \n    \n\n      \n      \n        \n      \n      \n      534 US Route 3Holderness\, NH 03245\n      \n                  \n\n      \n    \n\n  \n\n\n\n\n  \n  \n	\n\n\n\n\n  \n  \n	\n\n\n\n\nWhat to bring\n\nLate April can still be plenty chilly at night! Please bring warm layers for standing or sitting outside for an extended period of time. If you would like to stargaze while looking for comets\, it can also be helpful to download stargazing apps to your phone. A red light headlamp and camp chair may also be helpful\, but not required. \n\n\n  \n  \n	\n\n\n\n\nMeet this week's guide\n\nKevin Jones is a passionate 2026 LRCC Education and Outreach Assistant who recently graduated from the University of New Hampshire with a conservation degree. He is an avid birder and angler with a love for outdoor recreation. Kevin is knowledgeable in a variety of outdoor topics and ready to learn or share with others.
URL:https://squamlakes.org/event/timberdoodling-looking-for-springs-funkiest-bird/
CATEGORIES:Adventure Ecology
ATTACH;FMTTYPE=image/jpeg:https://squamlakes.org/wp-content/uploads/2026/02/4032-3024-max-scaled.webp
END:VEVENT
END:VCALENDAR