BEGIN:VCALENDAR
VERSION:2.0
PRODID:-//Squam Lakes Association - ECPv6.10.2//NONSGML v1.0//EN
CALSCALE:GREGORIAN
METHOD:PUBLISH
X-ORIGINAL-URL:https://squamlakes.org
X-WR-CALDESC:Events for Squam Lakes Association
REFRESH-INTERVAL;VALUE=DURATION:PT1H
X-Robots-Tag:noindex
X-PUBLISHED-TTL:PT1H
BEGIN:VTIMEZONE
TZID:America/New_York
BEGIN:DAYLIGHT
TZOFFSETFROM:-0500
TZOFFSETTO:-0400
TZNAME:EDT
DTSTART:20250309T070000
END:DAYLIGHT
BEGIN:STANDARD
TZOFFSETFROM:-0400
TZOFFSETTO:-0500
TZNAME:EST
DTSTART:20251102T060000
END:STANDARD
END:VTIMEZONE
BEGIN:VEVENT
DTSTART;TZID=America/New_York:20250927T080000
DTEND;TZID=America/New_York:20251031T000000
DTSTAMP:20260422T021727
CREATED:20250930T154955Z
LAST-MODIFIED:20251015T181752Z
UID:22537-1758960000-1761868800@squamlakes.org
SUMMARY:Trek for Trees Challenge!
DESCRIPTION:Adopt a Tree!\n\nWe planted 22 fruit and nut trees to fully designate our campus as a Level 1 ArbNet-certified arboretum as a part of our larger project to create community spaces and education opportunities. Thank you for all the help!Now we are looking for help naming the trees! If you would like to name a tree\, or write a small message on the sign\, join in on our challenge! There are two ways to earn tickets: trekking and reading for the trees. Figure out more for each below.\n\n    \n                                    \n    \n    \n    \n    \n            \n                    \n            \n                           \n                       \n                 \n\n    \n    \n    \n                    \n    \n    \n\n    \n        Volunteer with us!\n\n        \n        \n                \n\n    \n\n\n\n\n  \n  \n	\n\n\n\n\n\nChallenge Rules\n\nWinners will be selected from each category\n\n  \n  \n	\n\n\n\n\nTrekking\n\n2 miles = 1 ticket\n\nIf you are going to trek for trees to submit your entry for raffle tickets join our Strava  group\, Squam Lakes Association Trek for Trees at the link below.If you cannot download Strava\, you must email us at info@squamlakes.org with proof of the miles you trekked.\n\n    \n                                    \n    \n    \n    \n    \n            \n                    \n            \n            \n\n    \n    \n    \n    \n    \n    \n\n    \n        Strava\n\n        \n        \n                \n\n    \n\n\n\n\n\n\n\n\n  \n  \n	\n\n\n\n\nReading\n\n100 pages = 1 ticket\n\nIf you want to read for the trees check with your local library to fill out your ticket.Children of all ages can join in our Adopt a Tree program. Check with your local school to see if they are participating too!\n\n    \n                                    \n    \n    \n    \n    \n            \n                    \n            \n            \n\n    \n    \n    \n    \n    \n    \n\n    \n        Ashland Library\n\n        \n        \n                \n\n    \n\n\n\n    \n                                    \n    \n    \n    \n    \n            \n                    \n            \n            \n\n    \n    \n    \n    \n    \n    \n\n    \n        Holderness Free Library\n\n        \n        \n                \n\n    \n\n\n\n    \n                                    \n    \n    \n    \n    \n            \n                    \n            \n            \n\n    \n    \n    \n    \n    \n    \n\n    \n        James E. Nichols Memorial Library\n\n        \n        \n                \n\n    \n\n\n\n    \n                                    \n    \n    \n    \n    \n            \n                    \n            \n            \n\n    \n    \n    \n    \n    \n    \n\n    \n        Meredith Library\n\n        \n        \n                \n\n    \n\n\n\n    \n                                    \n    \n    \n    \n    \n            \n                    \n            \n            \n\n    \n    \n    \n    \n    \n    \n\n    \n        Sandwhich Library\n\n        \n        \n                \n\n    \n\n\n\n    \n                                    \n    \n    \n    \n    \n            \n                    \n            \n            \n\n    \n    \n    \n    \n    \n    \n\n    \n        Moultonborough Library\n\n        \n        \n                \n\n    \n\n\n\n\n Drawing\n\nWinners will be selected from each category\n\n  \n  \n	\n\n\n\n\n8 Trekking \n\n\n  \n  \n	\n\n\n\n\n8 Reading\n\nThe raffle will close on October 31\, 2025 and the winners will be drawn on November 2\, 2025 at our main building.\n\n\n  \n  \n	\n\n\n\n\n4 Youth\n\n\n  \n  \n	\n\n\n\n\nReTreeUs\n\nTo obtain our certification\, we will be partnering with a local agency\, ReTreeUS. Their mission is to inspire generations of food growers\, environmental stewards\, and problem solvers through experiential education in orchards and gardens. They have kindly offered us their expertise in all things arboretum. \n\n\n  \n  \n	\n\n\n\n\nExample Sign:\n\nTo the left is an example of what the tree sign will look like. There will be 6 lines of text. 4 of them will be taken up with tree Identification and the last two are all yours!
URL:https://squamlakes.org/event/trek-for-trees/
CATEGORIES:Public Program
ATTACH;FMTTYPE=image/png:https://squamlakes.org/wp-content/uploads/2025/09/Trek-for-Trees-Poster-png-e1759346526673.webp
END:VEVENT
END:VCALENDAR