BEGIN:VCALENDAR
VERSION:2.0
PRODID:-//Squam Lakes Association - ECPv6.10.2//NONSGML v1.0//EN
CALSCALE:GREGORIAN
METHOD:PUBLISH
X-ORIGINAL-URL:https://squamlakes.org
X-WR-CALDESC:Events for Squam Lakes Association
REFRESH-INTERVAL;VALUE=DURATION:PT1H
X-Robots-Tag:noindex
X-PUBLISHED-TTL:PT1H
BEGIN:VTIMEZONE
TZID:America/New_York
BEGIN:DAYLIGHT
TZOFFSETFROM:-0500
TZOFFSETTO:-0400
TZNAME:EDT
DTSTART:20260308T070000
END:DAYLIGHT
BEGIN:STANDARD
TZOFFSETFROM:-0400
TZOFFSETTO:-0500
TZNAME:EST
DTSTART:20261101T060000
END:STANDARD
END:VTIMEZONE
BEGIN:VEVENT
DTSTART;TZID=America/New_York:20260321T100000
DTEND;TZID=America/New_York:20260321T130000
DTSTAMP:20260423T125642
CREATED:20260210T180926Z
LAST-MODIFIED:20260227T191100Z
UID:23249-1774087200-1774098000@squamlakes.org
SUMMARY:The Soundscape of Squam Lake
DESCRIPTION:Today's Program:\n\nIs it possible that a bear with a taste for picnic baskets is actually a conservation expert in disguise? Bring your children to the Squam Lakes Association to help us kick off National Park Week! We'll start our program with a "Ranger Briefing" on the National Park Service mission followed by an interactive screening of the 2010 film Yogi Bear. While the movie plays\, children will get to sketch their  favorite plants/animals and use "Ranger Report Cards" to grade Yogi’s outdoor behavior. We’ll finish by exploring the real-life "Jellystones" found throughout Holderness and the Squam watershed. Families will head home with the knowledge to be local rangers and protectors of our beautiful natural spaces!For parents who want to learn more about this movie prior to our event\, you can have a look at the film's IMDb page using the link provided below.\n\n  Yogi  Bear  (2010)\n\n\n\n  \n  \n	\n\n\n\n\n\n    \n                                    \n    \n    \n    \n    \n            \n                    \n            \n            \n\n    \n    \n    \n    \n    \n    \n\n    \n        Register Here \n\n        \n        \n                \n\n    \n\n\n\n\n  \n  \n	\n\n\n\n\n  \n  \n	\n\n\n\n\nWhat to bring:\n\nThough this program will be held primarily indoors\, wearing warm\, comfortable clothing is recommended. Snacks and coloring materials will be provided\, but please feel free to bring your own! This program is geared toward  children. Children must be accompanied by an adult.\n\n\n  \n  \n	\n\n\n\n\nMeet this week's guide:\n\nDiego Bautista Torres\, who recently pivoted toward a career in environmental conservation\, joined the Lakes Region Conservation Corps with a background in music production. After serving with AmeriCorps in the American Conservation Experience\, he is eager to bring his technical skills and public speaking experience to the Squam Lakes Association. As an Education and Outreach Assistant\, Diego looks forward to protecting the watershed through community engagement\, scientific monitoring\, and hands-on conservation work.\n\n\n\n  \n  \n	\n\n\n\n\n  \n  \n	\n\n\n\n\n\n\n\n\n\n  \n  \n	\n\n\n\n\nLocation:\n\n534 US-3\, Holderness\, NH\n\n\n  \n              \n    \n                      \n            \n            \n\n    \n    \n    \n    \n    \n    \n\n      \n      \n        \n      \n      \n      Squam Lakes Association\n      \n                  \n\n      \n    \n\n  \n\n\nThe Squam Lakes Association is dedicated to conserving for public benefit the natural beauty\, peaceful character and resources of the watershed. In collaboration with local and state partners the SLA promotes the protection\, careful use and shared enjoyment of the lakes\, mountains\, forests\, open spaces and wildlife of the Squam Lakes Region.
URL:https://squamlakes.org/event/the-soundscape-of-squam-lakes/
CATEGORIES:Adventure Ecology
ATTACH;FMTTYPE=image/jpeg:https://squamlakes.org/wp-content/uploads/2026/02/20260122_144451-scaled.webp
END:VEVENT
END:VCALENDAR