BEGIN:VCALENDAR
VERSION:2.0
PRODID:-//Squam Lakes Association - ECPv6.10.2//NONSGML v1.0//EN
CALSCALE:GREGORIAN
METHOD:PUBLISH
X-ORIGINAL-URL:https://squamlakes.org
X-WR-CALDESC:Events for Squam Lakes Association
REFRESH-INTERVAL;VALUE=DURATION:PT1H
X-Robots-Tag:noindex
X-PUBLISHED-TTL:PT1H
BEGIN:VTIMEZONE
TZID:America/New_York
BEGIN:DAYLIGHT
TZOFFSETFROM:-0500
TZOFFSETTO:-0400
TZNAME:EDT
DTSTART:20260308T070000
END:DAYLIGHT
BEGIN:STANDARD
TZOFFSETFROM:-0400
TZOFFSETTO:-0500
TZNAME:EST
DTSTART:20261101T060000
END:STANDARD
END:VTIMEZONE
BEGIN:VEVENT
DTSTART;VALUE=DATE:20260301
DTEND;VALUE=DATE:20260501
DTSTAMP:20260425T215424
CREATED:20260226T164445Z
LAST-MODIFIED:20260304T173318Z
UID:23444-1772323200-1777593599@squamlakes.org
SUMMARY:Over in the Forest: a StoryWalk at Whitten Woods
DESCRIPTION:Today's Adventure Art\n\nJoin the Squam Lakes Association for a hands-on bleach printing program. Using leaves and other interesting materials found in the natural environment\, we’ll transform old clothes/fabric into unique creations. Whether you consider yourself an artist or not\, this simple process is accessible and enjoyable for everyone.The program is open to all\, but because we will be working with bleach\, bringing small children is not recommended. This event is free\, and registration is required. All children must be accompanied by an adult.\n\n    \n                                    \n    \n    \n    \n    \n            \n                    \n            \n            \n\n    \n    \n    \n    \n    \n    \n\n    \n        Register now\n\n        \n        \n                \n\n    \n\n\n\n\n  \n  \n	\n\n\n\n\n\n\n  \n  \n	\n\n\n\n\n  \n  \n	\n\n\n\n\n\n\n\n\n\n  \n  \n	\n\n\n\n\nLocation\n\nSquam Lakes Association\n\nThis program is at the SLA office in Holderness\, off Route 3. Parking is available in our main lot.\n\nSquam Lakes Association\n\n\n  \n              \n    \n                      \n            \n            \n\n    \n    \n    \n    \n    \n    \n\n      \n      \n        \n      \n      \n      534 US Route 3Holderness\, NH 03245\n      \n                  \n\n      \n    \n\n  \n\n\n\n\n  \n  \n	\n\n\n\n\n  \n  \n	\n\n\n\n\nWhat to bring\n\nFor today's program\, we will have bandanas available for printing. However\, you are encouraged to bring your own old clothing or bags (or anything fabric) to upcycle. This process works best on natural materials\, including denim\, cotton\, and linen. \n\n\n  \n  \n	\n\n\n\n\nMeet this week's guide\n\nMacie Kane is one of our new Americorps members. She recently graduated from SUNY College of Environmental Science and Forestry with a degree in environmental biology. She loves hiking\, rock climbing\, and a good sunset. She enjoys sharing her love of nature with others and is excited to share it with you!When she's not outside\, you can find her under a cozy blanket reading or crafting.
URL:https://squamlakes.org/event/over-in-the-forest-a-storywalk-at-whitten-woods/
CATEGORIES:StoryWalk
ATTACH;FMTTYPE=image/jpeg:https://squamlakes.org/wp-content/uploads/2026/03/over-in-the-forest.webp
END:VEVENT
END:VCALENDAR